BEGIN:VCALENDAR
VERSION:2.0
PRODID:-//Dúhový Rok - ECPv6.0.6.2//NONSGML v1.0//EN
CALSCALE:GREGORIAN
METHOD:PUBLISH
X-WR-CALNAME:Dúhový Rok
X-ORIGINAL-URL:https://duhovyrok.sk
X-WR-CALDESC:Events for Dúhový Rok
REFRESH-INTERVAL;VALUE=DURATION:PT1H
X-Robots-Tag:noindex
X-PUBLISHED-TTL:PT1H
BEGIN:VTIMEZONE
TZID:Europe/Bratislava
BEGIN:DAYLIGHT
TZOFFSETFROM:+0100
TZOFFSETTO:+0200
TZNAME:CEST
DTSTART:20260329T010000
END:DAYLIGHT
BEGIN:STANDARD
TZOFFSETFROM:+0200
TZOFFSETTO:+0100
TZNAME:CET
DTSTART:20261025T010000
END:STANDARD
END:VTIMEZONE
BEGIN:VEVENT
DTSTART;TZID=Europe/Bratislava:20260504T190000
DTEND;TZID=Europe/Bratislava:20260504T213000
DTSTAMP:20260425T181836
CREATED:20260331T093651Z
LAST-MODIFIED:20260331T093651Z
UID:4977-1777921200-1777930200@duhovyrok.sk
SUMMARY:Socializmus s teplou tvárou / III. derniéra
DESCRIPTION:Vstupenky: \nhttps://tootoot.fm/events/69c16bcbca70307d5cb4c381 \n  \nSocialistický človek nie je homosexuál. Je tabu! \nInscenácia Socializmus s teplou tvárou rozpráva o tom\, ako sa žilo queer ľuďom za socializmu. Odohráva sa v 80. rokoch počas normalizácie. Mladý muž príde do hlavného mesta s túžbou vyliečiť sa z homosexuality. Na ulici stretáva podivnú skupinku\, ktorá je iná a nezapadá do šedého priemeru socializmu. Ide o Alex\, ktorá ma tajnú milenku\, Zlaticu a Básnika\, ktorí spolu žijú. Postupne sa zoznamuje s miestami a spôsobmi\, ako títo neviditeľní a neexistujúci ľudia prežívajú.\n\n\nVylieči ho socialistické zdravotníctvo? Rozvrátia sa tradičné manželstvá? Chytí ho ŠTB do svojej pasce ružových zoznamov?\nInscenácia vznikla aj na podklade rozhovorov pamätníkov a pamätníčok z LGBTI komunity\, za čo im zo srdca ďakujeme. Na tvorbe a zrealizovaní divadlo NOMANTINELS spolupracovalo s divadlom DPM.\n\nVznik inscenácie je tiež súčasťou väčšieho medzinárodné projektu o dejinách queer ľudí Removal of Queer Curtain v rámci krajín Slovensko\, Česká republika\, Maďarsko a Srbsko\, kde bude hra vzhľadom na podobnosť skúseností zo života v socializme tiež prezentovaná.\n\nAutor: Andrej Kuruc\nRéžia: Marián Amsler\nHrajú: Jakub Švec\, Peter Tilajčík\, Edita Borsová\, Ľuboš Janák\, Lenka Libjaková\, Tomáš Pokorný\nScéna a kostýmy: Alžbeta Kutliaková\nFotografie a design: Ľuboš Kotlár\nLightdesign: Boris Adamčík\nProdukcia: Petra Mária Lančaričová\, Andrej Kuruc\, Róbert Pakan\nTechnické zabezpečenie: Boris Adamčík\, Dominik Janovský\, Martin Hodoň\n\nInscenácia je prístupná od 16 rokov.\n\n\n\nReprízu inscenácie finančne podporil ako hlavný partner Fond na podporu umenia.\nInscenácia vznikla tiež vďaka podpore Ministerstvo kultúry SR\, Višegradské granty z Medzinárodného višegradského fondu (Visegrad fund)\, Program Európy pre občanov Európskej únie (European for Citizens Fund of Programme)\, Nadácia mesta Bratislavy.\n\nPartneri:\nDivadlo DPM
URL:https://duhovyrok.sk/event/socializmus-s-teplou-tvarou-iii-derniera/
LOCATION:P*AKT\, Pionierska 17\, Bratislava\, 831 02\, Slovenská republika
ATTACH;FMTTYPE=image/jpeg:https://duhovyrok.sk/wp-content/uploads/2023/02/131671338_3653977831363336_1385259570105494950_n.jpg
END:VEVENT
END:VCALENDAR