BEGIN:VCALENDAR
VERSION:2.0
PRODID:-//Dúhový Rok - ECPv6.0.6.2//NONSGML v1.0//EN
CALSCALE:GREGORIAN
METHOD:PUBLISH
X-ORIGINAL-URL:https://duhovyrok.sk
X-WR-CALDESC:Events for Dúhový Rok
REFRESH-INTERVAL;VALUE=DURATION:PT1H
X-Robots-Tag:noindex
X-PUBLISHED-TTL:PT1H
BEGIN:VTIMEZONE
TZID:Europe/Bratislava
BEGIN:DAYLIGHT
TZOFFSETFROM:+0100
TZOFFSETTO:+0200
TZNAME:CEST
DTSTART:20260329T010000
END:DAYLIGHT
BEGIN:STANDARD
TZOFFSETFROM:+0200
TZOFFSETTO:+0100
TZNAME:CET
DTSTART:20261025T010000
END:STANDARD
END:VTIMEZONE
BEGIN:VEVENT
DTSTART;TZID=Europe/Bratislava:20260426T190000
DTEND;TZID=Europe/Bratislava:20260426T203000
DTSTAMP:20260425T181906
CREATED:20260324T144033Z
LAST-MODIFIED:20260324T144033Z
UID:4965-1777230000-1777235400@duhovyrok.sk
SUMMARY:𝗽𝗮𝗿𝗮_𝗻𝗼𝗻𝗻𝗼𝗿𝗺𝗮𝗹 / aprílová repríza
DESCRIPTION:VSTUPENKY: \nhttps://tootoot.fm/en/events/69b84bc2e04dc0dc3162077f \n  \n„Lásku tu pokojne nájdi. Koľko len chceš. Prišiel si si pre zážitok a nové city. Tie si však domov odtiaľto nevezmeš! City ostanú tu\, vonku by ťa zabili.“\nČo sú bezpečné miesta pre LGBTIQ+ ľudí?Existujú vôbec miesta\, kde môžu byť sami sebou bez obáv a strachu?\n\nPARA_NONNORMAL skúma gay vzťahy a životy v skrytých priestoroch – heterotópiách\, kde tí\, ktorí cítia potrebu ukrývať svoju identitu\, nachádzajú útočisko. V minulosti to boli mníšske kláštory\, ženské rehole\, rytierske rády\, pirátske lode\, neskôr pánske kluby\, ženské spolky\, tajné bary a salóny. Tieto miesta predstavovali heterotópie – miesta\, kde si LGBTIQ+ ľudia vytvárali stratégie prežitia\, bezpečné prostredie\, aby mohli prežiť a žiť svoje životy napriek nepriazni doby. Inscenácia nás prenáša do šera mestského parku po zotmení\, gej sauny\, online sveta zoznamiek a malého pivničného bytu len pre jedného. Tieto prostredia poskytujú anonymitu alebo bezpečie aj pocit uväznenia\, keďže láska a identita musia zostať skryté.Reagujúc na teroristický útok na Zámockej ulici\, kde boli zavraždení dvaja queer ľudia\, inscenácia zdôrazňuje krehkosť a dôležitosť bezpečných miest pre LGBTIQ+ komunitu.\n\nNámet: Róbert PakanText: Róbert Pakan a kol.Réžia: Alexandra BolfováDramaturgia: Martina HavierováScéna a kostýmy: Anna TicháHudba: KistennLight-design: Boris AdamčíkProdukcia: Simona NagyováPohybová spolupráca: Dávid SeleckýPerformeri: Ľuboš Janák\, Kristián Marcel Jedelský\, Michal Kraus\, Jakub Matejčík\, Filip PavukVizuál a grafika: Eugen KordaFoto: Jakub Kováč\n___Z verejných zdrojov podporil Fond na podporu umenia.Projekt je financovaný zo zdrojov Európskej únie.Projekt je financovaný z Nadácie mesta Bratislava.
URL:https://duhovyrok.sk/event/%f0%9d%97%bd%f0%9d%97%ae%f0%9d%97%bf%f0%9d%97%ae_%f0%9d%97%bb%f0%9d%97%bc%f0%9d%97%bb%f0%9d%97%bb%f0%9d%97%bc%f0%9d%97%bf%f0%9d%97%ba%f0%9d%97%ae%f0%9d%97%b9-aprilova-repriza/
LOCATION:P*AKT\, Pionierska 17\, Bratislava\, 831 02\, Slovenská republika
ATTACH;FMTTYPE=image/jpeg:https://duhovyrok.sk/wp-content/uploads/2024/08/5S8A0283_V_orez_FB.jpg
END:VEVENT
END:VCALENDAR